BEGIN:VCALENDAR
VERSION:2.0
PRODID:-//ESJC: Ecole des nouveaux métiers du journalisme et de la communication - ECPv6.15.20//NONSGML v1.0//EN
CALSCALE:GREGORIAN
METHOD:PUBLISH
X-ORIGINAL-URL:https://esjc.ma
X-WR-CALDESC:Évènements pour ESJC: Ecole des nouveaux métiers du journalisme et de la communication
REFRESH-INTERVAL;VALUE=DURATION:PT1H
X-Robots-Tag:noindex
X-PUBLISHED-TTL:PT1H
BEGIN:VTIMEZONE
TZID:Europe/Paris
BEGIN:DAYLIGHT
TZOFFSETFROM:+0100
TZOFFSETTO:+0200
TZNAME:CEST
DTSTART:20240331T010000
END:DAYLIGHT
BEGIN:STANDARD
TZOFFSETFROM:+0200
TZOFFSETTO:+0100
TZNAME:CET
DTSTART:20241027T010000
END:STANDARD
BEGIN:DAYLIGHT
TZOFFSETFROM:+0100
TZOFFSETTO:+0200
TZNAME:CEST
DTSTART:20250330T010000
END:DAYLIGHT
BEGIN:STANDARD
TZOFFSETFROM:+0200
TZOFFSETTO:+0100
TZNAME:CET
DTSTART:20251026T010000
END:STANDARD
BEGIN:DAYLIGHT
TZOFFSETFROM:+0100
TZOFFSETTO:+0200
TZNAME:CEST
DTSTART:20260329T010000
END:DAYLIGHT
BEGIN:STANDARD
TZOFFSETFROM:+0200
TZOFFSETTO:+0100
TZNAME:CET
DTSTART:20261025T010000
END:STANDARD
END:VTIMEZONE
BEGIN:VEVENT
DTSTART;TZID=Europe/Paris:20250913T100000
DTEND;TZID=Europe/Paris:20250913T150000
DTSTAMP:20260421T221735
CREATED:20250915T143756Z
LAST-MODIFIED:20250930T161126Z
UID:18366-1757757600-1757775600@esjc.ma
SUMMARY:Les journées immersives de l'ESJC - Samedi 13 Septembre 2025
DESCRIPTION:Participez à nos Journées Immersives et découvrez l’univers du journalisme\, de la communication et de la création de contenu. \nPendant 2h vivez l’expérience ESJC à travers des ateliers pratiques encadrés par nos professionnels : présentation TV\, enregistrement radio\, rédaction presse écrite\, communication et création graphique/vidéo. \nRepartez avec vos productions au format digital et un Welcome Kit exclusif.\nUne occasion unique de tester nos métiers\, rencontrer nos équipes et vous projeter dans votre future carrière.
URL:https://esjc.ma/event/les-journees-immersives-de-lesjc-samedi-13-septembre-2025/
LOCATION:Siège ESJC à Casablanca\, 37 Rue Tata\, Casablanca\, Morocco
CATEGORIES:ESJC
ATTACH;FMTTYPE=image/jpeg:https://esjc.ma/wp-content/uploads/2025/08/ESJC-Journees-Immersives.jpg
ORGANIZER;CN="ESJC":MAILTO:contact@esjc.ma
END:VEVENT
BEGIN:VEVENT
DTSTART;TZID=Europe/Paris:20250920T100000
DTEND;TZID=Europe/Paris:20250920T150000
DTSTAMP:20260421T221735
CREATED:20250915T143854Z
LAST-MODIFIED:20250930T161129Z
UID:18368-1758362400-1758380400@esjc.ma
SUMMARY:Les journées immersives de l'ESJC - Samedi 20 Septembre 2025
DESCRIPTION:Participez à nos Journées Immersives et découvrez l’univers du journalisme\, de la communication et de la création de contenu. \nPendant 2h vivez l’expérience ESJC à travers des ateliers pratiques encadrés par nos professionnels : présentation TV\, enregistrement radio\, rédaction presse écrite\, communication et création graphique/vidéo. \nRepartez avec vos productions au format digital et un Welcome Kit exclusif.\nUne occasion unique de tester nos métiers\, rencontrer nos équipes et vous projeter dans votre future carrière.
URL:https://esjc.ma/event/les-journees-immersives-de-lesjc-samedi-20-septembre-2025/
LOCATION:Siège ESJC à Casablanca\, 37 Rue Tata\, Casablanca\, Morocco
CATEGORIES:ESJC
ATTACH;FMTTYPE=image/jpeg:https://esjc.ma/wp-content/uploads/2025/08/ESJC-Journees-Immersives.jpg
ORGANIZER;CN="ESJC":MAILTO:contact@esjc.ma
END:VEVENT
BEGIN:VEVENT
DTSTART;TZID=Europe/Paris:20250927T100000
DTEND;TZID=Europe/Paris:20250927T150000
DTSTAMP:20260421T221735
CREATED:20250915T143938Z
LAST-MODIFIED:20250930T155824Z
UID:18370-1758967200-1758985200@esjc.ma
SUMMARY:Les journées immersives de l'ESJC - Samedi 27 Septembre 2025
DESCRIPTION:Participez à nos Journées Immersives et découvrez l’univers du journalisme\, de la communication et de la création de contenu. \nPendant 2h vivez l’expérience ESJC à travers des ateliers pratiques encadrés par nos professionnels : présentation TV\, enregistrement radio\, rédaction presse écrite\, communication et création graphique/vidéo. \nRepartez avec vos productions au format digital et un Welcome Kit exclusif.\nUne occasion unique de tester nos métiers\, rencontrer nos équipes et vous projeter dans votre future carrière.
URL:https://esjc.ma/event/les-journees-immersives-de-lesjc-samedi-27-septembre-2025/
LOCATION:Siège ESJC à Casablanca\, 37 Rue Tata\, Casablanca\, Morocco
CATEGORIES:ESJC
ATTACH;FMTTYPE=image/jpeg:https://esjc.ma/wp-content/uploads/2025/08/ESJC-Journees-Immersives.jpg
ORGANIZER;CN="ESJC":MAILTO:contact@esjc.ma
END:VEVENT
END:VCALENDAR