BEGIN:VCALENDAR
VERSION:2.0
PRODID:-//ESJC: Ecole des nouveaux métiers du journalisme et de la communication - ECPv6.15.20//NONSGML v1.0//EN
CALSCALE:GREGORIAN
METHOD:PUBLISH
X-ORIGINAL-URL:https://esjc.ma
X-WR-CALDESC:Évènements pour ESJC: Ecole des nouveaux métiers du journalisme et de la communication
REFRESH-INTERVAL;VALUE=DURATION:PT1H
X-Robots-Tag:noindex
X-PUBLISHED-TTL:PT1H
BEGIN:VTIMEZONE
TZID:Europe/Paris
BEGIN:DAYLIGHT
TZOFFSETFROM:+0100
TZOFFSETTO:+0200
TZNAME:CEST
DTSTART:20240331T010000
END:DAYLIGHT
BEGIN:STANDARD
TZOFFSETFROM:+0200
TZOFFSETTO:+0100
TZNAME:CET
DTSTART:20241027T010000
END:STANDARD
BEGIN:DAYLIGHT
TZOFFSETFROM:+0100
TZOFFSETTO:+0200
TZNAME:CEST
DTSTART:20250330T010000
END:DAYLIGHT
BEGIN:STANDARD
TZOFFSETFROM:+0200
TZOFFSETTO:+0100
TZNAME:CET
DTSTART:20251026T010000
END:STANDARD
BEGIN:DAYLIGHT
TZOFFSETFROM:+0100
TZOFFSETTO:+0200
TZNAME:CEST
DTSTART:20260329T010000
END:DAYLIGHT
BEGIN:STANDARD
TZOFFSETFROM:+0200
TZOFFSETTO:+0100
TZNAME:CET
DTSTART:20261025T010000
END:STANDARD
END:VTIMEZONE
BEGIN:VEVENT
DTSTART;TZID=Europe/Paris:20251101T110000
DTEND;TZID=Europe/Paris:20251101T140000
DTSTAMP:20260421T190403
CREATED:20251029T130246Z
LAST-MODIFIED:20251029T130246Z
UID:19563-1761994800-1762005600@esjc.ma
SUMMARY:Le Club ESJC Champions voit le jour : à vos voix\, prêts\, parlez !
DESCRIPTION:Ce samedi à 11h\, l’ESJC lance officiellement le Club ESJC Champion\, un espace pensé pour vous\, étudiants\, afin de renforcer vos compétences en prise de parole\, confiance en soi et leadership. \nCette formation sera donnée par Zakaria Elhariri\, formateur en public speaking et ingénieur en informatique\, reconnu pour son parcours inspirant et sa capacité à transformer la peur de parler en véritable force. \nÀ travers ses interventions dans de nombreuses écoles et associations (EMSI\, Supemir\, Hestim\, AIESEC\, JCI\, Fondation Assalam…)\, il a accompagné des centaines d’étudiants à trouver leur voix\, leur posture et leur impact. \nLa présence est obligatoire pour tous les étudiants. \nParce qu’à l’ESJC\, on apprend aussi à prendre la parole pour incarner ses idées.
URL:https://esjc.ma/event/le-club-esjc-champions-voit-le-jour-a-vos-voix-prets-parlez/
LOCATION:Siège ESJC à Casablanca\, 37 Rue Tata\, Casablanca\, Morocco
CATEGORIES:ESJC
ATTACH;FMTTYPE=image/jpeg:https://esjc.ma/wp-content/uploads/2025/10/Photos-Articles-Site-Internet.jpg
ORGANIZER;CN="ESJC":MAILTO:contact@esjc.ma
END:VEVENT
BEGIN:VEVENT
DTSTART;TZID=Europe/Paris:20251105T160000
DTEND;TZID=Europe/Paris:20251105T180000
DTSTAMP:20260421T190403
CREATED:20251029T142615Z
LAST-MODIFIED:20251029T142615Z
UID:19568-1762358400-1762365600@esjc.ma
SUMMARY:Sarrae Bouayad et Rania Laabid à l’ESJC : deux diplômées de retour pour partager leur expérience
DESCRIPTION:Le mercredi 5 novembre 2025 à 16h\, l’École Supérieure des nouveaux métiers du journalisme et de la communication (ESJC) accueillera deux de ses anciennes étudiantes\, Sarrae Bouayad et Rania Laabid\, aujourd’hui journalistes au magazine Femmes du Maroc. \nL’événement s’inscrit dans le cadre du module d’insertion professionnelle. Les étudiants de première\, deuxième et troisième années\, francophones et arabophones\, prendront part à une table ronde suivie d’un atelier de production journalistique. Ils seront amenés à animer la discussion\, conduire des interviews écrites et filmées\, réaliser des captations photo et vidéo et produire des contenus destinés au site et aux réseaux de l’école. \nSarrae Bouayad\, diplômée de l’ESJC en 2012 après un parcours en droit\, a débuté à L’Économiste avant de rejoindre Radio 2M puis Hit Radio\, où elle a animé plusieurs chroniques culturelles et couvert de grands événements. Elle collabore également avec Paris Match et travaille aujourd’hui à Femmes du Maroc\, où elle signe des sujets mode et culture. \nRania Laabid\, également diplômée de l’école\, a débuté chez Yabiladi avant de rejoindre Le360\, où elle a animé les émissions « Toit et moi » et « Sexpertise ». Elle a ensuite poursuivi son parcours au magazine Plurielle puis à 2M\, avant de rejoindre Femmes du Maroc\, où elle couvre des sujets de société\, de culture et de mode. \nCette rencontre incarne la pédagogie de l’ESJC : apprendre en produisant. Elle vise à confronter les étudiants à la réalité du métier\, en leur donnant l’occasion d’échanger avec des professionnelles en activité et de transformer cet échange en véritable production journalistique.
URL:https://esjc.ma/event/sarrae-bouayad-et-rania-laabid-a-lesjc-deux-diplomees-de-retour-pour-partager-leur-experience/
LOCATION:Siège ESJC à Casablanca\, 37 Rue Tata\, Casablanca\, Morocco
CATEGORIES:ESJC
ATTACH;FMTTYPE=image/jpeg:https://esjc.ma/wp-content/uploads/2025/10/Photos-Articles-Site-Internet1.jpg
ORGANIZER;CN="ESJC":MAILTO:contact@esjc.ma
END:VEVENT
BEGIN:VEVENT
DTSTART;TZID=Europe/Paris:20251119T160000
DTEND;TZID=Europe/Paris:20251119T180000
DTSTAMP:20260421T190403
CREATED:20251111T151413Z
LAST-MODIFIED:20251112T143407Z
UID:19642-1763568000-1763575200@esjc.ma
SUMMARY:Pourquoi choisir l’événementiel ? Des parcours pour inspirer une génération
DESCRIPTION:Mercredi 19 novembre à 16h\, l’École Supérieure des nouveaux métiers du journalisme et de la communication (ESJC) accueillera trois professionnels de renom pour une rencontre dédiée aux métiers de l’événementiel : Soukaïna Chraïbi\, Imane Jabri et Yazid Alaoui. \nAnimée par Basma Mawlawi\, directrice Communication & Marketing de l’école\, cette table ronde s’inscrit dans le cadre du module d’insertion professionnelle. Elle a pour ambition d’ouvrir aux étudiants une fenêtre sur un secteur en constante évolution\, à la croisée de la création\, de la stratégie et de la coordination. \nSoukaïna Chraïbi\, directrice de projets événementiels à l’agence Memento\, a construit un parcours international entre le Maroc\, la France et le Canada. Spécialiste des activations corporate\, elle accompagne les marques dans la création d’expériences qui allient sens\, rigueur et émotion. \nImane Jabri\, fondatrice de la maison de création Célafête\, incarne l’élégance et la sensibilité dans l’art de recevoir. À travers la scénographie\, la décoration et la gastronomie\, elle conçoit des univers immersifs où chaque détail contribue à raconter une histoire. \nYazid Alaoui\, manager de Twenty Campus Casablanca\, aborde l’événementiel sous un angle transversal. Fort d’une expérience dans l’hôtellerie\, la restauration et la production d’événements\, il défend une vision humaine du métier\, où la précision et la gestion collective priment autant que la créativité. \nDestinée à l’ensemble des étudiants de la 1re à la 3e année\, cette conférence sera suivie d’un atelier pratique : rédaction d’articles\, réalisation d’interviews filmées et reportages photo. Une manière concrète de prolonger la discussion et de transformer la théorie en pratique\, dans l’esprit de l’ESJC où l’on apprend toujours par l’expérience. \nÀ travers ce rendez-vous\, l’ESJC poursuit sa mission : favoriser la rencontre entre les étudiants et les acteurs du terrain\, et inspirer une nouvelle génération de professionnels capables de concevoir\, produire et raconter des expériences qui ont du sens. \nMercredi 19 novembre 2025 – 16h00\nESJC Casablanca – 37\, rue Tata
URL:https://esjc.ma/event/pourquoi-choisir-levenementiel-des-parcours-pour-inspirer-une-generation/
LOCATION:Siège ESJC à Casablanca\, 37 Rue Tata\, Casablanca\, Morocco
CATEGORIES:ESJC
ATTACH;FMTTYPE=image/jpeg:https://esjc.ma/wp-content/uploads/2025/11/ESJC-Conference-evenementiel1.jpg
ORGANIZER;CN="ESJC":MAILTO:contact@esjc.ma
END:VEVENT
END:VCALENDAR